BEGIN:VCALENDAR
VERSION:2.0
PRODID:https://github.com/derhansen/sf_event_mgt
METHOD:PUBLISH
BEGIN:VEVENT
UID:2438-26073@www.haw-kiel.de
CLASS: PUBLIC
SUMMARY:Vortrag: „Kommunikation in Psychiatrie und Psychotherapie - Das Sti
 gma psychischer Erkrankungen, eine Frage der Sprache?“
DESCRIPTION:Priv.-Doz. Dr. Moritz Wigand beleuchtet in einem interaktiven V
 ortrag das Zusammenspiel von Sprache und Stigmatisierung in der Psychiatrie
  und Psychotherapie. Themen wie wertschätzende Kommunikation, die Umbenennu
 ng von Schizophrenie in Japan und der Werther-Effekt bei Suizidberichtersta
 ttung werden behandelt. Moderation durch Prof. Dr. Jeannette Bischkopf.\n\n
 Das Stigma psychischer Erkrankungen ist so belastend, dass es zum Teil als 
 „zweite Krankheit“ bezeichnet wird. In diesem interaktiven Vortrag wird es 
 darum gehen, das komplexe Zusammenspiel zwischen Sprache und Stigmatisierun
 g zu beleuchten. Wie kann man wertschätzend kommunizieren und dennoch Erkra
 nkungen beim Namen nennen? Warum hat Japan im Jahr 2002 die Schizophrenie u
 mbenannt, und war das eine hilfreiche Anti-Stigma-Maßnahme? Wie können Medi
 en professionell über das Thema Suizid berichten, ohne dadurch Folgesuizide
 , den sogenannten Werther-Effekt, zu provozieren? Was unterscheidet die bip
 olare affektive Störung von einem gebrochenen Bein? Und welche Rolle spielt
  lösungsorientierte Sprache in der Psychotherapie? Zwar lassen sich auf vie
 le dieser Fragen keine abschließenden Antworten finden, aber es gibt Studie
 n und evidenzbasierte Maßnahmen, die mögliche Wege zu einer wertschätzenden
  Kommunikation aufzeigen können.\n\nDie Veranstaltung findet im Rahmen der 
 34. Interdisziplinären Wochen statt und wird von Prof. Dr. Jeannette Bischk
 opf, FB Soziale Arbeit und Kindheitspädagogik moderiert.\n\nGäste sind sehr
  herzlich willkommen, eine Anmeldung ist nicht erforderlich, die Veranstalt
 ung ist kostenlos.\n\nStudierende und Mitarbeitende der HAW Kiel melden sic
 h ab 30.03. über das IDA Portal an: https://ida.haw-kiel.de/idw/
DTSTAMP:20260325T135040Z
DTSTART:20260427T141500Z
DTEND:20260427T154500Z
END:VEVENT
END:VCALENDAR
