BEGIN:VCALENDAR
VERSION:2.0
PRODID:https://github.com/derhansen/sf_event_mgt
METHOD:PUBLISH
BEGIN:VEVENT
UID:2335-26073@www.haw-kiel.de
CLASS: PUBLIC
SUMMARY:VAI-Vortrag „Grünlandwirtschaft im Spannungsfeld zwischen Produktio
 n, Umwelt- und Klimaschutz"
DESCRIPTION:Thema: Von bewährten Praktiken zu neuen Perspektiven: Grünlandw
 irtschaft im Spannungsfeld zwischen Produktion, Umwelt- und Klimaschutz\n\n
 Referent: Prof. Dr. Tammo Peters (Professur für Grünlandwirtschaft und Klim
 aschutz, HAW Kiel)\n\nTermin: Dienstag, den 09. Dezember 2025 um 19.30 Uhr\
 n\nOrt: A02 Claus-Heller-Haus , Raum A02-0.01 Fachbereich Agrarwirtschaft, 
 Grüner Kamp 11, 24783 Osterrönfeld oder per Zoom https://fh-kiel.zoom.us/j/
 64591143587\n\nInhalt: Um die übergeordneten Herausforderungen im Klima- un
 d Umweltschutz zu bewältigen, sind Änderungen in der landwirtschaftlichen P
 raxis unausweichlich – so auch in der Grünlandbewirtschaftung, die vorrangi
 g in Milchproduktionssystemen als Futtergrundlage dient. Allerdings decken 
 sich produktionsorientierte und ökologische Zielsetzungen häufig nicht ohne
  Weiteres. Der Vortrag zeigt auf Basis empirischer Ergebnisse, welche Manag
 ementanpassungen Spannungen zwischen Produktion, Umwelt- und Klimaschutz in
  grünlandbasierten Systemen verringern können und leitet praxisorientierte 
 Handlungsempfehlungen ab.
DTSTAMP:20251125T080328Z
DTSTART:20251209T183000Z
DTEND:20251209T200000Z
END:VEVENT
END:VCALENDAR
