BEGIN:VCALENDAR
VERSION:2.0
PRODID:https://github.com/derhansen/sf_event_mgt
METHOD:PUBLISH
BEGIN:VEVENT
UID:2426-26073@www.haw-kiel.de
CLASS: PUBLIC
SUMMARY:Themenwoche Beruf und Familie „Leistungsstark: Vereinbarkeit & Viel
 falt“
DESCRIPTION:Der Familienservice der HAW Kiel macht auf die Themenwoche „Lei
 stungsstark: Vereinbarkeit & Vielfalt“ der berufundfamilie Service GmbH im 
 Rahmen des audits familiengerechte hochschule vom 16.-20. März 2026 aufmerk
 sam.\n\nDie kurzen und kostenfreien Online-Impulsen geben Einblicke in aktu
 elle Themen der Arbeitswelt. Die Veranstaltungswoche ist ein exklusives Ang
 ebot für Mitarbeitende auditierter Arbeitgeber*innen.
DTSTAMP:20260303T163354Z
DTSTART:20260316T073000Z
DTEND:20260320T150000Z
END:VEVENT
END:VCALENDAR
