BEGIN:VCALENDAR
VERSION:2.0
PRODID:https://github.com/derhansen/sf_event_mgt
METHOD:PUBLISH
BEGIN:VEVENT
UID:1994-26073@www.haw-kiel.de
CLASS: PUBLIC
SUMMARY:Ringvorlesung: Rechtsextremismus
DESCRIPTION:Redner: Joshua Vogel und Felix Fischer (ZEBRA e.V. und LIDA-SH/
 LIBA-SH)\n\nRechte Angriffe und antisemitische Bedrohungen in Schleswig-Hol
 stein. Einschätzungen zur Lage aus Sicht der Beratungs- und Dokumentationss
 tellen.\n\nDer Begriff »Rechtsextremismus« suggeriert, dass rechtes und res
 sentimentgeladenes Denken und Handeln lediglich ein Phänomen an den gesells
 chaftlichen Rändern sei. Wie stark aber rechtes und menschenfeindliches Den
 ken bereits tief in die gesellschaftlichen Diskurse eingedrungen ist, disku
 tieren wir seit über zehn Jahren aus verschiedenen Perspektiven in der Ring
 vorlesung im Fachbereich Soziale Arbeit. Dabei gehen wir - Lehrende des Fac
 hbereichs und Expert*innen anderer Hochschulen oder aus der Praxis - der Fr
 age nach, welche Auswirkungen solche gesellschaftlichen Entwicklungen auf d
 ie Soziale Arbeit und ihre Adressat*innen haben und welchen Auftrag die Soz
 iale Arbeit in diesem Zusammenhang hat.\n\n 	Die Vorlesungen finden in Präs
 enz statt und werden zugleich online via Zoom gestreamt. 	Studierende der F
 H Kiel können diese Ringvorlesung im Wahlmodul belegen und 2.5 cp erhalten.
  Bitte schreiben Sie sich im entsprechenden Moodle-Kurs ein, um alle Infos 
 zu erhalten. 	Studierende und weitere Interessierte können gerne auch einze
 lne Termine wahrnehmen. \n\nNicht-Hochschulmitglieder melden sich bitte für
  den Stream per email an: ringvorlesung.sg@fh-kiel.de. Der Link zum Zoom-St
 ream wird Ihnen rechtzeitig vor der Vorlesung zugemailt. Gerne können Sie a
 uch in Präsenz an der Hochschule teilnehmen!\n\nHochschulmitglieder melden 
 sich bitte über den Moodle-Kurs an, um weitere Infos und Zoom-Links zu erha
 lten.\n\nDie Veranstaltenden behalten sich vor, von ihrem Hausrecht Gebrauc
 h zu machen und Personen, die rechtsextremen Parteien oder Organisationen a
 ngehören, der rechtsextremen Szene zuzuordnen sind oder bereits in der Verg
 angenheit durch rassistische, nationalistische, antisemitische oder sonstig
 e menschenverachtende Äußerungen in Erscheinung getreten sind, den Zutritt 
  zur Veranstaltung zu verwehren oder diese auszuschließen. Das gilt ebenso 
 für Personen, die die Veranstaltung (beharrlich) stören. In gleicher Form b
 ehalten die Veranstaltenden sich das digitale Hausrecht für die Teilnahme a
 n der Veranstaltung per Zoom vor.\n\nAnsprechperson: Prof. Dr. Melanie Groß
 ,       FH Kiel, Fachbereich Soziale Arbeit und Gesundheit
LOCATION:C02 Großes Hörsaalgebäude
DTSTAMP:20240927T064141Z
DTSTART:20241016T141500Z
DTEND:20241016T154500Z
END:VEVENT
END:VCALENDAR
