BEGIN:VCALENDAR
VERSION:2.0
PRODID:https://github.com/derhansen/sf_event_mgt
METHOD:PUBLISH
BEGIN:VEVENT
UID:1995-26073@www.haw-kiel.de
CLASS: PUBLIC
SUMMARY:Ringvorlesung: Rechtsextremismus
DESCRIPTION:Redner: Prof. Dr. Bedia Akbaş (Fachhochschule Kiel) \n\nRassism
 uskritische Bildung in der Kita\n\nDer Begriff »Rechtsextremismus« suggerie
 rt, dass rechtes und ressentimentgeladenes Denken und Handeln lediglich ein
  Phänomen an den gesellschaftlichen Rändern sei. Wie stark aber rechtes und
  menschenfeindliches Denken bereits tief in die gesellschaftlichen Diskurse
  eingedrungen ist, diskutieren wir seit über zehn Jahren aus verschiedenen 
 Perspektiven in der Ringvorlesung im Fachbereich Soziale Arbeit. Dabei gehe
 n wir - Lehrende des Fachbereichs und Expert*innen anderer Hochschulen oder
  aus der Praxis - der Frage nach, welche Auswirkungen solche gesellschaftli
 chen Entwicklungen auf die Soziale Arbeit und ihre Adressat*innen haben und
  welchen Auftrag die Soziale Arbeit in diesem Zusammenhang hat.\n\n 	Die Vo
 rlesungen finden in Präsenz statt und werden zugleich online via Zoom gestr
 eamt. 	Studierende der FH Kiel können diese Ringvorlesung im Wahlmodul bele
 gen und 2.5 cp erhalten. Bitte schreiben Sie sich im entsprechenden Moodle-
 Kurs ein, um alle Infos zu erhalten. 	Studierende und weitere Interessierte
  können gerne auch einzelne Termine wahrnehmen. \n\nNicht-Hochschulmitglied
 er melden sich bitte für den Stream per email an: ringvorlesung.sg@fh-kiel.
 de. Der Link zum Zoom-Stream wird Ihnen rechtzeitig vor der Vorlesung zugem
 ailt. Gerne können Sie auch in Präsenz an der Hochschule teilnehmen!\n\nHoc
 hschulmitglieder melden sich bitte über den Moodle-Kurs an, um weitere Info
 s und Zoom-Links zu erhalten.\n\nDie Veranstaltenden behalten sich vor, von
  ihrem Hausrecht Gebrauch zu machen und Personen, die rechtsextremen Partei
 en oder Organisationen angehören, der rechtsextremen Szene zuzuordnen sind 
 oder bereits in der Vergangenheit durch rassistische, nationalistische, ant
 isemitische oder sonstige menschenverachtende Äußerungen in Erscheinung get
 reten sind, den Zutritt  zur Veranstaltung zu verwehren oder diese auszusch
 ließen. Das gilt ebenso für Personen, die die Veranstaltung (beharrlich) st
 ören. In gleicher Form behalten die Veranstaltenden sich das digitale Hausr
 echt für die Teilnahme an der Veranstaltung per Zoom vor.\n\nAnsprechperson
 : Prof. Dr. Melanie Groß,       FH Kiel, Fachbereich Soziale Arbeit und Ges
 undheit
LOCATION:C02 Großes Hörsaalgebäude
DTSTAMP:20240927T064522Z
DTSTART:20241211T151500Z
DTEND:20241211T164500Z
END:VEVENT
END:VCALENDAR
