BEGIN:VCALENDAR
VERSION:2.0
PRODID:https://github.com/derhansen/sf_event_mgt
METHOD:PUBLISH
BEGIN:VEVENT
UID:2196-26073@www.haw-kiel.de
CLASS: PUBLIC
SUMMARY:Ringvorlesung „Israelbezogener Antisemitismus, der Nahostkonflikt u
 nd Bildung - Zum Stand der pädagogischen Auseinandersetzung mit herausforde
 rnden Themen“
DESCRIPTION:Öffentliche Online-Ringvorlesung im Fachbereich Soziale Arbeit 
 und Gesundheit SoSe 2025\n\nKai E. Schubert: „Israelbezogener Antisemitismu
 s, der Nahostkonflikt und Bildung - Zum Stand der pädagogischen Auseinander
 setzung mit herausfordernden Themen“\n\nWie kann in der Schule über den Nah
 ostkonflikt gesprochen werden? Wie können Schüler*innen für israelbezogene 
 Ausdrucksformen des Antisemitismus sensibilisiert werden? Seit vielen Jahre
 n und insbesondere seit dem 7. Oktober 2023 stehen Bildungsinstitutionen ve
 rstärkt vor der Herausforderung, diese mit Überforderung und Verunsicherung
  verbundene Thematik zu bearbeiten.\n\nEin 2024 von Elizaveta Firsova-Ecker
 t und Kai E. Schubert herausgegebener Sammelband (Budrich Verlag, Open Acce
 ss) bietet einen Überblick über empirische Erforschung und Praxis des pädag
 ogischen Umgangs mit israelbezogenem Antisemitismus und dem Nahostkonflikt.
  Die Beiträge untersuchen, wie Bildungsakteure in Deutschland den mit dem i
 sraelisch-arabischen Konflikt zusammenhängenden Antisemitismus behandeln un
 d welche Herausforderungen und Chancen sich dabei ergeben. Der Vortrag stel
 lt die Kapitel des Buches vor und legt einen Schwerpunkt auf die Rolle der 
 politischen Bildung. \n\nVeranstaltungsort ausschließlich online per Zoom (
 Lagepläne)\n\nAnsprechperson und Anmeldung Prof. Dr. Bedia Akbaş  bedia.akb
 as@fh-kiel.de \n\nWeitere Informationen Rechtsextremismus, Gruppenbezogene 
 Menschenfeindlichkeit und Soziale Arbeit Veranstaltet in diesem Semester vo
 n Prof. Dr. Bedia Akbaş (Fachbereich Soziale Arbeit und Gesundheit) Mittwoc
 hs von 16.15 bis 17.45 Uhr (Hybrid-Veranstaltung, H8 und Zoom-Stream)\n\nDi
 e Vorlesungen finden in Präsenz statt und werden zugleich online via Zoom g
 estreamt. Der Begriff »Rechtsextremismus« suggeriert, dass rechtes und ress
 entimentgeladenes Denken und Handeln lediglich ein Phänomen an den gesellsc
 haftlichen Rändern sei. Wie stark aber rechtes und menschenfeindliches Denk
 en bereits tief in die gesellschaftlichen Diskurse eingedrungen ist, diskut
 ieren wir seit zwölf Jahren aus verschiedenen Perspektiven in der Ringvorle
 sung im Fachbereich Soziale Arbeit. Dabei gehen wir - Lehrende des Fachbere
 ichs und Expert*innen anderer Hochschulen oder aus der Praxis - der Frage n
 ach, welche Auswirkungen solche gesellschaftlichen Entwicklungen auf die So
 ziale Arbeit und ihre Adressat*innen haben und welchen Auftrag die Soziale 
 Arbeit in diesem Zusammenhang hat.\n\nStudierende der FH Kiel können diese 
 Ringvorlesung im Wahlmodul belegen und 2.5 cp erhalten. Bitte schreiben Sie
  sich im entsprechenden Moodle-Kurs ein, um alle Infos zu erhalten. Studier
 ende und weitere Interessierte können gerne auch einzelne Termine wahrnehme
 n.
DTSTAMP:20250423T081921Z
DTSTART:20250528T141500Z
DTEND:20250528T154500Z
END:VEVENT
END:VCALENDAR
