BEGIN:VCALENDAR
VERSION:2.0
PRODID:https://github.com/derhansen/sf_event_mgt
METHOD:PUBLISH
BEGIN:VEVENT
UID:2458-26073@www.haw-kiel.de
CLASS: PUBLIC
SUMMARY:Online-Workshop Tools zur Operationalisierung geschlechtlicher Viel
 falt in Surveys
DESCRIPTION:Der Online-Workshop richtet sich an Forschende, Forschungsinter
 essierte sowie Lehrende aller Fachbereiche, die mit quantitativen Forschung
 smethoden arbeiten. Um die Vielfalt subjektiv empfundener Geschlechtsidenti
 täten und körperlicher Geschlechterformen angemessen für ein Forschungsvorh
 aben zu operationalisieren, haben die Universität Bremen, die Humboldt-Univ
 ersität zu Berlin und die Radboud Universität Nijmegen/Niederlande mit dem 
 DIVERGesTOOL fundierte Fragenbogen-Items für die Erfassung von Geschlecht i
 n gesundheitsbezogenen Surveys entwickelt, die allgemeingültig und interdis
 ziplinär nutzbar sind.\n\nIn dem Workshop vermittelt Sophie Horstmann der D
 IVERGes-Studiengruppe der Universität Bremen, wie Forschende geschlechtlich
 e Vielfalt methodisch in ihr Projekt integrieren können.\n\nAnmeldung über 
 INSIDE bis 28. April 2026\n\nHAW-Externe wie FuE-Mitarbeitende melden Sie s
 ich bitte bei Julia.Willrodt[at]haw-kiel.de an.\n\nDer Zoom-Zugangslink wir
 d am Vortag der Veranstaltung verschickt.
DTSTAMP:20260423T080312Z
DTSTART:20260505T081500Z
DTEND:20260505T094500Z
END:VEVENT
END:VCALENDAR
