BEGIN:VCALENDAR
VERSION:2.0
PRODID:https://github.com/derhansen/sf_event_mgt
METHOD:PUBLISH
BEGIN:VEVENT
UID:1755-79@www.haw-kiel.de
CLASS: PUBLIC
SUMMARY:Prüfungszeitraum Ende SS24
DESCRIPTION:
DTSTAMP:20240321T090159Z
DTSTART:20240620T220000Z
DTEND:20240704T215900Z
END:VEVENT
END:VCALENDAR
