BEGIN:VCALENDAR
VERSION:2.0
PRODID:https://github.com/derhansen/sf_event_mgt
METHOD:PUBLISH
BEGIN:VEVENT
UID:2370-26073@www.haw-kiel.de
CLASS: PUBLIC
SUMMARY:Kinderuni: „Das Wesen der Kuh: Woher wissen wir, was unsere Tiere f
 ühlen und brauchen?
DESCRIPTION:Science Comes to Town bringt die Kinderunis 2026 zurück nach Ki
 el. Zeitgleich finden Kinderuni in Brest (Frankreich) und Split (Kroatien) 
 statt.\n\nDie Kinderuni richtet sich an Kinder im Alter von 8 bis 14 Jahren
  und bietet ihnen die Möglichkeit, spannende Themen aus Naturwissenschaft, 
 Technik, Kultur und Gesellschaft kennenzulernen. In kindgerechten Vorlesung
 en mit interaktiven Elementen erklären Professor*innen komplexe Zusammenhän
 ge auf verständliche Weise.\n\nDer Startschuss fällt am Mittwoch, 28. Janua
 r 2026, um 14:30 Uhr mit dem Vortrag Verhalten von Kühen: Wie Kühe ,ticken’
  von Prof. Dr. Katrin Mahlkow-Nerge des Fachbereichs Nachhaltige Agrarwirts
 chaft der HAW Kiel. Das Audimax der HAW Kiel verwandelt sich dann in einen 
 Hörsaal nur für Kinder.\n\nFür alle Eltern und Begleitpersonen gibt es para
 llel ein Elternkino, indem sie die Vorlesung verfolgen können. Im Februar u
 nd März finden zwei weitere Vorlesungen an der HAW Kiel statt.\n\nOrt Große
 s Hörsaalgebäude - Hörsaal 6 (C02) Sokratesplatz 6, Kiel\n\nTickets (kosten
 los) und weitere Informationen
LOCATION:C02 Großes Hörsaalgebäude
DTSTAMP:20260110T112802Z
DTSTART:20260128T124500Z
DTEND:20260128T143000Z
END:VEVENT
END:VCALENDAR
