BEGIN:VCALENDAR
VERSION:2.0
PRODID:https://github.com/derhansen/sf_event_mgt
METHOD:PUBLISH
BEGIN:VEVENT
UID:2457-26073@www.haw-kiel.de
CLASS: PUBLIC
SUMMARY:Fachtagung Psychosoziale Versorgungsangebote für geschlechterdivers
 e Menschen
DESCRIPTION:Veranstaltung aus der GARD-Reihe „Forschung meets Praxis" in Ko
 operation mit dem Arbeitsbereich Gender & Diversity Studies der CAU zur För
 derung des Erfahrungsaustauschs zwischen Fachkräften aus Praxisfeldern der 
 Sozialen Arbeit und Beratungsstellen mit der Wissenschaft\n\nProgramm \n\nA
 nmeldung bis 28.04.2026 unter  igd[at]haw-kiel.de
LOCATION:Lerndock23
DTSTAMP:20260424T095243Z
DTSTART:20260505T120000Z
DTEND:20260505T150000Z
END:VEVENT
END:VCALENDAR
