BEGIN:VCALENDAR
VERSION:2.0
PRODID:https://github.com/derhansen/sf_event_mgt
METHOD:PUBLISH
BEGIN:VEVENT
UID:2419-26073@www.haw-kiel.de
CLASS: PUBLIC
SUMMARY:9. Jahrestagung der DGPuK-Fachgruppe Mediensport und Sportkommunika
 tion
DESCRIPTION:Die Hochschule für Angewandte Wissenschaften Kiel (HAW Kiel) lä
 dt vom 23. bis 25. September 2026 zur 9. Jahrestagung der Fachgruppe Medien
 sport und Sportkommunikation der Deutschen Gesellschaft für Publizistik- un
 d Kommunikationswissenschaft (DGPuK) an den Campus Kiel ein. Unter dem Tagu
 ngsthema „Von olympischen Arenen zu digitalen Venues – Kommunikationsräume 
 des Sports“ bietet die Konferenz Forschung und Praxis eine hervorragende Pl
 attform zur Diskussion aktueller Entwicklungen, Herausforderungen und Chanc
 en in der Sportkommunikation und richtet sich an alle Interessierten aus Wi
 ssenschaft, Medien und Sport.\n\n\n\n 
DTSTAMP:20260212T134541Z
DTSTART:20260922T220000Z
DTEND:20260925T215900Z
END:VEVENT
END:VCALENDAR
