BEGIN:VCALENDAR
VERSION:2.0
PRODID:https://github.com/derhansen/sf_event_mgt
METHOD:PUBLISH
BEGIN:VEVENT
UID:2330-79@www.haw-kiel.de
CLASS: PUBLIC
SUMMARY:Intercultural Communication in Virtual Teams - a Serious Game Adven
 ture
DESCRIPTION:This is your chance to work on your communication skills while 
 having the most fun interacting in a intercultural context on a virtual bas
 is! \n\nA serious game is a game created to train you while you play.  Here
  our focus will be on future skills for your career like intercultural comm
 unication and communicating in virtual teams.  While it is a lot of fun and
  engaging, its primary goal is to train your communication competences, rai
 se awareness, and support decision-making.\n\nFind out more about the serio
 us game we will play in this short video: Eternal Ice by teamera\n\nWhere: 
 Zoom | You will need a Laptop/Computer and a stable connection to participa
 te! Language: English Registration: Intercultural Communication in Virtual 
 Teams - a Serious Game Adventure | 12/25 | E-Learning
DTSTAMP:20251203T151703Z
DTSTART:20251219T090000Z
DTEND:20251219T110000Z
END:VEVENT
END:VCALENDAR
