BEGIN:VCALENDAR
VERSION:2.0
PRODID:https://github.com/derhansen/sf_event_mgt
METHOD:PUBLISH
BEGIN:VEVENT
UID:2331-79@www.haw-kiel.de
CLASS: PUBLIC
SUMMARY:Academic Cultures and Scientific Work in Germany at HAW Kiel
DESCRIPTION:You want to know how academic writing at Kiel UAS looks like? T
 his interactive training offers you practical insights and hands-on support
  to help you succeed in the German academic environment.\n\nTraining Highli
 ghts\n\n 	Comparing Academic Cultures: Understand how academic expectations
  differ across countries and what characterizes the study culture at German
  universities. 	Scientific Work at German Universities: Learn the essential
 s of the German academic style and develop the skills you need for successf
 ul university work. \n\nFocus Areas:\n\n 	 	Key principles of German scient
 ific writing (such as choosing a research topic, searching for academic lit
 erature, understanding formal requirements, structuring and designing acade
 mic papers, mandatory components of scientific writing, correct citing and 
 referencing) 	 	 	Oral Presentations: How to prepare, structure, and delive
 r an effective presentation that meets academic standards. 	 	 	Self-Help S
 kills: Learn how to seek support when you get stuck; Who can you ask? Where
  can you find reliable information about academic writing? How to use avail
 able resources effectively. 	 \n\nThroughout the training, all topics are a
 ccompanied by interactive, practice-oriented exercises that allow you to ap
 ply what you learn immediately.\n\n Where: Campus of HAW Kiel, Room tba Lan
 guage: English Registration: Academic Cultures and Scientific Work in Germa
 ny at HAW Kiel | 12/25 | E-Learning
DTSTAMP:20251119T125811Z
DTSTART:20251212T080000Z
DTEND:20251213T150000Z
END:VEVENT
END:VCALENDAR
