BEGIN:VCALENDAR
VERSION:2.0
PRODID:https://github.com/derhansen/sf_event_mgt
METHOD:PUBLISH
BEGIN:VEVENT
UID:736-79@www.haw-kiel.de
CLASS: PUBLIC
SUMMARY:Meldezeitraum für Prüfungsformen außer Klausuren
DESCRIPTION:Meldungen für Prüfungsformen außer Klausuren\n\n 	 	im Fachbere
 ich Maschinenwesen: Portfolioprüfungen, Technische Tests, mdl. Prüfungen, P
 rotokolle, Übungen, Vorlagen, Entwürfe 	 
DTSTAMP:20240903T085836Z
DTSTART:20240922T220000Z
DTEND:20241006T215900Z
END:VEVENT
END:VCALENDAR
