BEGIN:VCALENDAR
VERSION:2.0
PRODID:https://github.com/derhansen/sf_event_mgt
METHOD:PUBLISH
BEGIN:VEVENT
UID:2142-79@www.haw-kiel.de
CLASS: PUBLIC
SUMMARY:34th IDW | Offers by the International Office
DESCRIPTION:Here you can find all our offers during the IDWs - for internat
 ionals & locals:\n\nTo register, simply click on the event and you'll be di
 rectly forwarded to the offer. If you are still interested after the regist
 ration deadline, feel free to send an email to educareer@haw-kiel.de, and w
 e’ll see what we can do. We look forward to seeing you!\n\n 	27./28.04.26 |
  Learning Strategies & Time Management: Unlock Your Learning Potential! | e
 nglish | on campus 	04.05.26 | Assessment Center Training | english | on ca
 mpus 	05.05.26 | My Rights as an International Employee in Germany | englis
 h | on campus 	06.05.26 | Cracking the Code of Kiel UAS: Understanding univ
 ersity culture, expectations, and how to succeed in your studies. | english
  | on campus \n\n\n\n\n\n
DTSTAMP:20260316T122029Z
DTSTART:20260427T060000Z
DTEND:20260508T170500Z
END:VEVENT
END:VCALENDAR
